BEGIN:VCALENDAR
VERSION:2.0
PRODID:-//AOR e.V. - ECPv6.15.20//NONSGML v1.0//EN
CALSCALE:GREGORIAN
METHOD:PUBLISH
X-WR-CALNAME:AOR e.V.
X-ORIGINAL-URL:https://akkorom.de
X-WR-CALDESC:Veranstaltungen für AOR e.V.
REFRESH-INTERVAL;VALUE=DURATION:PT1H
X-Robots-Tag:noindex
X-PUBLISHED-TTL:PT1H
BEGIN:VTIMEZONE
TZID:UTC
BEGIN:STANDARD
TZOFFSETFROM:+0000
TZOFFSETTO:+0000
TZNAME:UTC
DTSTART:20250101T000000
END:STANDARD
END:VTIMEZONE
BEGIN:VEVENT
DTSTART;TZID=UTC:20260501T110000
DTEND;TZID=UTC:20260501T180000
DTSTAMP:20260423T080128
CREATED:20241008T174009Z
LAST-MODIFIED:20260308T180532Z
UID:284-1777633200-1777658400@akkorom.de
SUMMARY:Maihocketse
DESCRIPTION:
URL:https://akkorom.de/event/maihocketse/
LOCATION:Alte Kelter Rommelshausen\, Kelterstraße 82\, 71394 Kernen im Remstal
END:VEVENT
BEGIN:VEVENT
DTSTART;TZID=UTC:20260510T163000
DTEND;TZID=UTC:20260510T180000
DTSTAMP:20260423T080128
CREATED:20241102T070027Z
LAST-MODIFIED:20260420T200502Z
UID:372-1778430600-1778436000@akkorom.de
SUMMARY:Auftritt 1. Orchester beim HHO Muttertagsfest
DESCRIPTION:Genaue Uhrzeit des Auftritts folgt.
URL:https://akkorom.de/event/auftritt-1-orchester-beim-hho-muttertagsfest/
LOCATION:Vereinsheim HHO Stetten\, Frauenländerstr. 8\, 71394 Kernen im Remstal
END:VEVENT
BEGIN:VEVENT
DTSTART;TZID=UTC:20260719T110000
DTEND;TZID=UTC:20260719T123000
DTSTAMP:20260423T080128
CREATED:20250311T183325Z
LAST-MODIFIED:20260412T121909Z
UID:463-1784458800-1784464200@akkorom.de
SUMMARY:Auftritt 1. Orchester beim Sommerfest des Trachtenvereins Almrausch
DESCRIPTION:
URL:https://akkorom.de/event/gastauftritt-1-orchester-beim-sommerfest-des-trachtenvereins-almrausch/
LOCATION:Vereinsheim Trachtenverein Almrausch\, Kelterstraße 109\, 71394 Kernen im Remstal
END:VEVENT
BEGIN:VEVENT
DTSTART;TZID=UTC:20260913T110000
DTEND;TZID=UTC:20260913T160000
DTSTAMP:20260423T080128
CREATED:20240916T205515Z
LAST-MODIFIED:20260412T121804Z
UID:72-1789297200-1789315200@akkorom.de
SUMMARY:Musikalisches Weißwurstfrühstück
DESCRIPTION:
URL:https://akkorom.de/event/musikalisches-weisswurstfruehstueck/
LOCATION:Vereinsheim Trachtenverein Almrausch\, Kelterstraße 109\, 71394 Kernen im Remstal
END:VEVENT
END:VCALENDAR